Workbook

Sheet Datos
B2: CALCULO DEL PRECIO DE VENTA INTERNACIONAL
B4: PRODUCTO | C4: TEXTILES | F4: PESO EN KG | G4: PESO VOLUMEN | H4: VOLUMEN (M3)
B5: DESCRIPCION | C5: POLOS DE ALGODÓN | F5: =C10*C11 -> 2000 | G5: =((C14*D14*E14)*C10)/6000 -> 4166.6667 | H5: =((C14*D14*E14)*C10)/1000000 -> 25
B6: UNIDAD DE PRODUCCION | C6: 1 | D6: POLO | F6: AEREO | G6: AEREO | H6: MARITIMO
B7: COSTO DE PRODUCCION | C7: 0.4 | D7: $/UNIDAD
B8: UNIDAD COMERCIAL | C8: 1 | D8: CAJA | F8: NUMERO DE CONTEDORES DE 20 | G8: 1
B9: UNIDADES POR CAJA | C9: 100 | D9: POLOS | F9: NUMERO DE EMBARQUES | G9: 1
B10: ORDEN DE COMPRA | C10: 200 | D10: CAJAS
B11: PESO BRUTO POR CAJA | C11: 10 | D11: KG
B12: TOTAL UNIDADES DE PRODUCCION | C12: =C9*C10 -> 20000 | D12: POLOS
B13: DIMENSIONES POR CAJA | C13: LARGO | D13: ANCHO | E13: ALTO
B14: EN CENTIMETROS | C14: 50 | D14: 50 | E14: 50
B16: HOJA DE COSTOS
A18: MACRO PROCESO I | B18: GASTOS EN ORIGEN | C18: CONCEPTO
B19: COSTOS EN ALMACEN (M-A) | C19: EMB-VARIOS | D19: 0.15 | E19: UNIDAD DE PRODUCCION
B20: AEREO | C20: RECOJO | D20: 0.15 | E20: KG
B21: MARITIMO | C21: RECOJO | D21: 150 | E21: 1X20 ST FCL
B22: AEREO - MARITIMO | C22: AGENTE DE ADUANAS | D22: 150 | E22: 0.005 | F22: DEL VALOR FOB/ EMBARQUE
B23: AEREO | C23: EMISION AWB - HANDLING | D23: 100 | E23: EMBARQUE
B24: MARITIMO | C24: EMISION DE BL - HANDLING | D24: 100 | E24: EMBARQUE
B25: MARITIMO | C25: DERECHOS DE EMBARQUE | D25: 300 | E25: EMBARQUE
B26: MARITIMO | C26: VISTOS BUENOS | D26: 350 | E26: EMBARQUE
B27: MARITIMO | C27: COURIER | D27: 50 | E27: EMBARQUE
B28: AEREO - MARITIMO | C28: GASTOS OPERATIVOS | D28: 200 | E28: EMBARQUE
B29: AEREO | C29: RECONOCIMIENTO FISICO | D29: 120 | E29: EMBARQUE
B30: MARITIMO | C30: RECONOCIMIENTO FISICO | D30: 150 | E30: 1X20 ST FCL
A32: MACROPROCESO II | B32: TRANSPORTE INTERNACIONAL | C32: CONCEPTO
B33: AEREO | C33: FLETE AEREO ALL IN | D33: 2.5 | E33: KG
B34: AEREO | C34: SEGURO AEREO | D34: 0.005 | E34: VALOR FOB
B35: MARITIMO | C35: FLETE MARITIMO ALL IN | D35: 2000 | E35: 1X20 ST FCL
B36: MARITIMO | C36: SEGURO MARITIMO | D36: 0.01 | E36: VALOR FOB
A38: MACRPROCESO III | B38: GASTOS EN DESTINO | C38: CONCEPTO
B39: AEREO Y MARITIMO | C39: CUSTOMS BROKERAGE | D39: 0.005 | E39: DEL VALOR CIF - CIP
B40: AEREO Y MARITIMO | C40: DUTIES & TAXES | D40: 0.3 | E40: DEL VALOR CIF - CIP
B41: MARITIMO | C41: UNLOADING PHYSICAL RECOGNITION | D41: 150 | E41: EMBARQUE
B42: MARITIMO | C42: WAREHOUSING | D42: 150 | E42: 1X20 ST FCL
B43: AEREO | C43: DELIVERY | D43: 0.2 | E43: KG
B44: MARITIMO | C44: DELIVERY | D44: 250 | E44: 1X20 ST FCL

Sheet Hoja de resultados
B2: COSTOS AL EXW | C2: MARITIMO | D2: AEREO
B3: EMB-VARIOS | C3: =Datos!D19*Datos!C12 -> 3000 | D3: =Datos!D19*Datos!C12 -> 3000
B5: GASTOS EN ORIGEN TOTALES | C5: MARITIMO | D5: AEREO
B6: RECOJO | C6: =Datos!D21*Datos!G8 -> 150 | D6: =Datos!D20*Datos!F5 -> 300
B7: AGENTE DE ADUANAS | C7: =Datos!D22*Datos!G9 -> 150 | D7: =Datos!D22*Datos!G9 -> 150
B8: HANDLING | C8: =Datos!D24*Datos!G9 -> 100 | D8: =Datos!D23*Datos!G9 -> 100
B9: DERECHOS DE EMBARQUE | C9: =Datos!D25*Datos!G9 -> 300 | D9: 0
B10: VISTOS BUENOS | C10: =Datos!D26*Datos!G9 -> 350 | D10: 0
B11: COURIER | C11: =Datos!D27*Datos!G9 -> 50 | D11: 0
B12: GASTOS OPERATIVOS | C12: =Datos!D28*Datos!G9 -> 200 | D12: =Datos!D28*Datos!G9 -> 200
B13: RECONOCIMIENTO FISICO | C13: =Datos!D30*Datos!G8 -> 150 | D13: =Datos!D29*Datos!G9 -> 120
B14: TOTAL GASTOS EN ORIGEN | C14: =SUM(C6:C13) -> 1450 | D14: =SUM(D6:D13) -> 870
B16: =Datos!B32 -> TRANSPORTE INTERNACIONAL | C16: MARITIMO | D16: AEREO
B17: FLETE | C17: =Datos!D35*Datos!G8 -> 2000 | D17: =Datos!D33*Datos!G5 -> 10416.667
B18: SEGURO | C18: =Datos!D36*'Hoja de resultados'!C38 -> 124.5 | D18: =Datos!D34*'Hoja de resultados'!E38 -> 59.35
B19: TOTAL GASTOS DE TRANSPORTE INTERNACIONAL | C19: =SUM(C17:C18) -> 2124.5 | D19: =SUM(D17:D18) -> 10476.017
B21: GASTOS EN DESTINO TOTALES | C21: MARITIMO | D21: AEREO
B22: CUSTOMS BROKERAGE | C22: =Datos!D39*'Hoja de resultados'!C40 -> 72.8725 | D22: =Datos!D39*'Hoja de resultados'!E40 -> 111.73008
B23: UNLOADING PHYSICAL RECOGNITION | C23: =Datos!D41*Datos!G9 -> 150 | D23: 0
B24: WAREHOUSING | C24: =Datos!D42*Datos!G8 -> 150 | D24: 0
B25: DELIVERY | C25: 0 | D25: =Datos!D43*Datos!F5 -> 400
B26: DELIVERY | C26: =Datos!D44*Datos!G8 -> 250 | D26: 0
B27: TOTAL GASTOS EN DESTINO | C27: =SUM(C22:C26) -> 622.8725 | D27: =SUM(D22:D26) -> 511.73008
B29: DUTIES & TAXES | C29: =Datos!D40*'Hoja de resultados'!C40 -> 4372.35 | D29: =Datos!D40*'Hoja de resultados'!E40 -> 6703.805
B31: HOJA DE RESULTADOS
C32: MARITMO | E32: AEREO
B33: CONCEPTOS | C33: COSTOS | D33: TIEMPO | E33: COSTOS | F33: TIEMPOS
B34: COSTO TOTAL DE PRODUCCION | C34: =Datos!C12*Datos!C7 -> 8000 | D34: 30 | E34: =Datos!C12*Datos!C7 -> 8000 | F34: 30
B35: COSTOS AL EXW | C35: =C3 -> 3000 | D35: 2 | E35: =D3 -> 3000 | F35: 3
B36: COSTO TOTAL EXW | C36: =SUM(C34:C35) -> 11000 | E36: =SUM(E34:E35) -> 11000
B37: GASTOS EN ORIGEN | C37: =C14 -> 1450 | D37: 4 | E37: =D14 -> 870 | F37: 2
B38: COSTO TOTAL FOB | C38: =SUM(C36:C37) -> 12450 | E38: =SUM(E36:E37) -> 11870
B39: COSTOS DE TRANSPORTE INTERNACIONAL | C39: =C19 -> 2124.5 | D39: 25 | E39: =D19 -> 10476.017 | F39: 2
B40: COSTO TOTAL CIF | C40: =SUM(C38:C39) -> 14574.5 | E40: =SUM(E38:E39) -> 22346.017
B41: GASTOS EN DESTINO | C41: =C27 -> 622.8725 | D41: 3 | E41: =D27 -> 511.73008 | F41: 3
B42: COSTO TOTAL DAT | C42: =SUM(C40:C41) -> 15197.372 | E42: =SUM(E40:E41) -> 22857.747
B43: DERECHOS E IMPUESTOS (30% DEL CIF) | C43: =C29 -> 4372.35 | D43: 1 | E43: =D29 -> 6703.805 | F43: 1
B44: COSTO TOTAL DDP | C44: =SUM(C42:C43) -> 19569.722 | E44: =SUM(E42:E43) -> 29561.552
B46: MARGEN DE UTILIDAD (20%) | C46: =C44*J46 -> 3913.9445 | E46: =E44*J46 -> 5912.3104 | H46: MARGEN DE UTILIDAD | J46: 0.2
B47: PRECIO DE VENTA TOTAL DDP | C47: =C44+C46 -> 23483.667 | E47: =E44+E46 -> 35473.862
...
